BEGIN:VCALENDAR
VERSION:2.0
PRODID:-//NADI Parit 11 Hutan Melintang - ECPv6.15.13.1//NONSGML v1.0//EN
CALSCALE:GREGORIAN
METHOD:PUBLISH
X-WR-CALNAME:NADI Parit 11 Hutan Melintang
X-ORIGINAL-URL:https://parit11hutanmelintang.nadi.my
X-WR-CALDESC:Events for NADI Parit 11 Hutan Melintang
REFRESH-INTERVAL;VALUE=DURATION:PT1H
X-Robots-Tag:noindex
X-PUBLISHED-TTL:PT1H
BEGIN:VTIMEZONE
TZID:Asia/Kuala_Lumpur
BEGIN:STANDARD
TZOFFSETFROM:+0800
TZOFFSETTO:+0800
TZNAME:+08
DTSTART:20240101T000000
END:STANDARD
END:VTIMEZONE
BEGIN:VEVENT
DTSTART;TZID=Asia/Kuala_Lumpur:20260423T090000
DTEND;TZID=Asia/Kuala_Lumpur:20260423T180000
DTSTAMP:20260425T100309
CREATED:20260407T065109Z
LAST-MODIFIED:20260407T065109Z
UID:5375-1776934800-1776967200@parit11hutanmelintang.nadi.my
SUMMARY:CYBERSECURITY: WEBINAR 7 BAGAIMANA AKAUN SOSIAL MEDIA ANDA BOLEH DIGODAM
DESCRIPTION:
URL:https://parit11hutanmelintang.nadi.my/event/cybersecurity-webinar-7-bagaimana-akaun-sosial-media-anda-boleh-digodam/
END:VEVENT
BEGIN:VEVENT
DTSTART;TZID=Asia/Kuala_Lumpur:20260423T090000
DTEND;TZID=Asia/Kuala_Lumpur:20260423T180000
DTSTAMP:20260425T100309
CREATED:20260407T065028Z
LAST-MODIFIED:20260407T065028Z
UID:5373-1776934800-1776967200@parit11hutanmelintang.nadi.my
SUMMARY:USAHAWAN: WEBINAR PERANCANGAN KEWANGAN
DESCRIPTION:
URL:https://parit11hutanmelintang.nadi.my/event/usahawan-webinar-perancangan-kewangan/
END:VEVENT
BEGIN:VEVENT
DTSTART;TZID=Asia/Kuala_Lumpur:20260418T090000
DTEND;TZID=Asia/Kuala_Lumpur:20260418T180000
DTSTAMP:20260425T100309
CREATED:20260407T064814Z
LAST-MODIFIED:20260407T064814Z
UID:5371-1776502800-1776535200@parit11hutanmelintang.nadi.my
SUMMARY:DILEA: WEBINAR BERKALA BAHASA MELAYU EDISI 6
DESCRIPTION:
URL:https://parit11hutanmelintang.nadi.my/event/dilea-webinar-berkala-bahasa-melayu-edisi-6/
END:VEVENT
BEGIN:VEVENT
DTSTART;TZID=Asia/Kuala_Lumpur:20260418T090000
DTEND;TZID=Asia/Kuala_Lumpur:20260418T180000
DTSTAMP:20260425T100309
CREATED:20260407T064750Z
LAST-MODIFIED:20260407T064750Z
UID:5369-1776502800-1776535200@parit11hutanmelintang.nadi.my
SUMMARY:KIDVENTURE: WEBINAR PEMASARAN 1
DESCRIPTION:
URL:https://parit11hutanmelintang.nadi.my/event/kidventure-webinar-pemasaran-1/
END:VEVENT
BEGIN:VEVENT
DTSTART;TZID=Asia/Kuala_Lumpur:20260417T090000
DTEND;TZID=Asia/Kuala_Lumpur:20260419T180000
DTSTAMP:20260425T100309
CREATED:20260407T044044Z
LAST-MODIFIED:20260407T044044Z
UID:5365-1776416400-1776621600@parit11hutanmelintang.nadi.my
SUMMARY:E-SUKAN: AWARENESS CLASS
DESCRIPTION:
URL:https://parit11hutanmelintang.nadi.my/event/e-sukan-awareness-class-3/
END:VEVENT
BEGIN:VEVENT
DTSTART;TZID=Asia/Kuala_Lumpur:20260416T090000
DTEND;TZID=Asia/Kuala_Lumpur:20260416T180000
DTSTAMP:20260425T100309
CREATED:20260407T043952Z
LAST-MODIFIED:20260407T043952Z
UID:5363-1776330000-1776362400@parit11hutanmelintang.nadi.my
SUMMARY:USAHAWAN: WEBINAR OPERASI PERNIAGAAN
DESCRIPTION:
URL:https://parit11hutanmelintang.nadi.my/event/usahawan-webinar-operasi-perniagaan/
END:VEVENT
BEGIN:VEVENT
DTSTART;TZID=Asia/Kuala_Lumpur:20260411T090000
DTEND;TZID=Asia/Kuala_Lumpur:20260411T180000
DTSTAMP:20260425T100309
CREATED:20260407T043551Z
LAST-MODIFIED:20260407T043551Z
UID:5361-1775898000-1775930400@parit11hutanmelintang.nadi.my
SUMMARY:DILEA: WEBINAR BERKALA BAHASA MELAYU EDISI 5
DESCRIPTION:
URL:https://parit11hutanmelintang.nadi.my/event/dilea-webinar-berkala-bahasa-melayu-edisi-5/
END:VEVENT
BEGIN:VEVENT
DTSTART;TZID=Asia/Kuala_Lumpur:20260411T090000
DTEND;TZID=Asia/Kuala_Lumpur:20260411T180000
DTSTAMP:20260425T100309
CREATED:20260407T043339Z
LAST-MODIFIED:20260407T043339Z
UID:5359-1775898000-1775930400@parit11hutanmelintang.nadi.my
SUMMARY:KIDVENTURE: WEBINAR OPERASI PERNIAGAAN
DESCRIPTION:
URL:https://parit11hutanmelintang.nadi.my/event/kidventure-webinar-operasi-perniagaan/
END:VEVENT
BEGIN:VEVENT
DTSTART;TZID=Asia/Kuala_Lumpur:20260410T090000
DTEND;TZID=Asia/Kuala_Lumpur:20260412T180000
DTSTAMP:20260425T100309
CREATED:20260407T043217Z
LAST-MODIFIED:20260407T043217Z
UID:5355-1775811600-1776016800@parit11hutanmelintang.nadi.my
SUMMARY:E-SUKAN: AWARENESS CLASS
DESCRIPTION:
URL:https://parit11hutanmelintang.nadi.my/event/e-sukan-awareness-class-2/
END:VEVENT
BEGIN:VEVENT
DTSTART;TZID=Asia/Kuala_Lumpur:20260409T090000
DTEND;TZID=Asia/Kuala_Lumpur:20260409T180000
DTSTAMP:20260425T100309
CREATED:20260407T042314Z
LAST-MODIFIED:20260407T042314Z
UID:5353-1775725200-1775757600@parit11hutanmelintang.nadi.my
SUMMARY:CYBERSECURITY: WEBINAR 6 CARA MENJAGA KESELAMATAN CCTV & WIFI RUMAH DARI DIGODAM
DESCRIPTION:
URL:https://parit11hutanmelintang.nadi.my/event/cybersecurity-webinar-6-cara-menjaga-keselamatan-cctv-wifi-rumah-dari-digodam/
END:VEVENT
BEGIN:VEVENT
DTSTART;TZID=Asia/Kuala_Lumpur:20260409T090000
DTEND;TZID=Asia/Kuala_Lumpur:20260409T180000
DTSTAMP:20260425T100309
CREATED:20260407T033055Z
LAST-MODIFIED:20260407T041416Z
UID:5348-1775725200-1775757600@parit11hutanmelintang.nadi.my
SUMMARY:USAHAWAN: WEBINAR PEMASARAN
DESCRIPTION:
URL:https://parit11hutanmelintang.nadi.my/event/e-sukan-awareness-class/
END:VEVENT
BEGIN:VEVENT
DTSTART;TZID=Asia/Kuala_Lumpur:20251212T090000
DTEND;TZID=Asia/Kuala_Lumpur:20251214T180000
DTSTAMP:20260425T100309
CREATED:20251204T040846Z
LAST-MODIFIED:20251204T040846Z
UID:5021-1765530000-1765735200@parit11hutanmelintang.nadi.my
SUMMARY:E-SPORT: AWARENESS CLASS - UNDANG-UNDANG & REGULASI E-SUKAN MALAYSIA
DESCRIPTION:
URL:https://parit11hutanmelintang.nadi.my/event/e-sport-awareness-class-undang-undang-regulasi-e-sukan-malaysia/
END:VEVENT
BEGIN:VEVENT
DTSTART;TZID=Asia/Kuala_Lumpur:20251211T080000
DTEND;TZID=Asia/Kuala_Lumpur:20251211T180000
DTSTAMP:20260425T100309
CREATED:20251204T040738Z
LAST-MODIFIED:20251204T040738Z
UID:5019-1765440000-1765476000@parit11hutanmelintang.nadi.my
SUMMARY:USAHAWAN COHORT 6: WEBINAR PEMASARAN & OPERASI PERNIAGAAN
DESCRIPTION:
URL:https://parit11hutanmelintang.nadi.my/event/usahawan-cohort-6-webinar-pemasaran-operasi-perniagaan/
END:VEVENT
BEGIN:VEVENT
DTSTART;TZID=Asia/Kuala_Lumpur:20251206T080000
DTEND;TZID=Asia/Kuala_Lumpur:20251206T180000
DTSTAMP:20260425T100309
CREATED:20251204T040639Z
LAST-MODIFIED:20251204T040639Z
UID:5017-1765008000-1765044000@parit11hutanmelintang.nadi.my
SUMMARY:DILEA: WEBINAR MOTIVASI PELAJAR EDISI 4
DESCRIPTION:
URL:https://parit11hutanmelintang.nadi.my/event/dilea-webinar-motivasi-pelajar-edisi-4/
END:VEVENT
BEGIN:VEVENT
DTSTART;TZID=Asia/Kuala_Lumpur:20251206T080000
DTEND;TZID=Asia/Kuala_Lumpur:20251206T180000
DTSTAMP:20260425T100309
CREATED:20251204T040601Z
LAST-MODIFIED:20251204T040601Z
UID:5015-1765008000-1765044000@parit11hutanmelintang.nadi.my
SUMMARY:E-SPORT: AWARENESS CLASS - ANTI BULI & ETIKA KOMUNITI
DESCRIPTION:
URL:https://parit11hutanmelintang.nadi.my/event/e-sport-awareness-class-anti-buli-etika-komuniti/
END:VEVENT
BEGIN:VEVENT
DTSTART;TZID=Asia/Kuala_Lumpur:20251206T080000
DTEND;TZID=Asia/Kuala_Lumpur:20251206T180000
DTSTAMP:20260425T100309
CREATED:20251204T040534Z
LAST-MODIFIED:20251204T040534Z
UID:5013-1765008000-1765044000@parit11hutanmelintang.nadi.my
SUMMARY:KIDVENTURE COHORT 8: WEBINAR PELAN PERNIAGAAN PERTAMA SAYA
DESCRIPTION:
URL:https://parit11hutanmelintang.nadi.my/event/kidventure-cohort-8-webinar-pelan-perniagaan-pertama-saya/
END:VEVENT
BEGIN:VEVENT
DTSTART;TZID=Asia/Kuala_Lumpur:20251204T080000
DTEND;TZID=Asia/Kuala_Lumpur:20251204T180000
DTSTAMP:20260425T100309
CREATED:20251204T040447Z
LAST-MODIFIED:20251204T040447Z
UID:5011-1764835200-1764871200@parit11hutanmelintang.nadi.my
SUMMARY:CYBERSECURITY: WEBINAR ANCAMAN KAMERA TERSEMBUNYI
DESCRIPTION:
URL:https://parit11hutanmelintang.nadi.my/event/cybersecurity-webinar-ancaman-kamera-tersembunyi/
END:VEVENT
BEGIN:VEVENT
DTSTART;TZID=Asia/Kuala_Lumpur:20251129T090000
DTEND;TZID=Asia/Kuala_Lumpur:20251129T180000
DTSTAMP:20260425T100309
CREATED:20251031T075142Z
LAST-MODIFIED:20251031T075142Z
UID:4865-1764406800-1764439200@parit11hutanmelintang.nadi.my
SUMMARY:DILEA: WEBINAR BERKALA MATEMATIK EDISI 5
DESCRIPTION:
URL:https://parit11hutanmelintang.nadi.my/event/dilea-webinar-berkala-matematik-edisi-5/
END:VEVENT
BEGIN:VEVENT
DTSTART;TZID=Asia/Kuala_Lumpur:20251129T090000
DTEND;TZID=Asia/Kuala_Lumpur:20251129T180000
DTSTAMP:20260425T100309
CREATED:20251031T075108Z
LAST-MODIFIED:20251031T075108Z
UID:4863-1764406800-1764439200@parit11hutanmelintang.nadi.my
SUMMARY:KIDVENTURE: WEBINAR OPERASI PEMASARAN COHORT 8
DESCRIPTION:
URL:https://parit11hutanmelintang.nadi.my/event/kidventure-webinar-operasi-pemasaran-cohort-8/
END:VEVENT
BEGIN:VEVENT
DTSTART;TZID=Asia/Kuala_Lumpur:20251128T090000
DTEND;TZID=Asia/Kuala_Lumpur:20251128T180000
DTSTAMP:20260425T100309
CREATED:20251031T075033Z
LAST-MODIFIED:20251031T075033Z
UID:4861-1764320400-1764352800@parit11hutanmelintang.nadi.my
SUMMARY:E-SPORT: WEBINAR & AWARENESS CLASS
DESCRIPTION:
URL:https://parit11hutanmelintang.nadi.my/event/e-sport-webinar-awareness-class/
END:VEVENT
BEGIN:VEVENT
DTSTART;TZID=Asia/Kuala_Lumpur:20251122T090000
DTEND;TZID=Asia/Kuala_Lumpur:20251122T180000
DTSTAMP:20260425T100309
CREATED:20251031T074946Z
LAST-MODIFIED:20251031T074946Z
UID:4859-1763802000-1763834400@parit11hutanmelintang.nadi.my
SUMMARY:TINYTECHIES: SUMO ROBOT WORKSHOP & IOT INNOVATION WORKSHOP SESI 4
DESCRIPTION:
URL:https://parit11hutanmelintang.nadi.my/event/tinytechies-sumo-robot-workshop-iot-innovation-workshop-sesi-4-2/
END:VEVENT
BEGIN:VEVENT
DTSTART;TZID=Asia/Kuala_Lumpur:20251122T090000
DTEND;TZID=Asia/Kuala_Lumpur:20251122T180000
DTSTAMP:20260425T100309
CREATED:20251031T074851Z
LAST-MODIFIED:20251031T074851Z
UID:4857-1763802000-1763834400@parit11hutanmelintang.nadi.my
SUMMARY:DILEA: WEBINAR BERKALA BAHASA MELAYU
DESCRIPTION:
URL:https://parit11hutanmelintang.nadi.my/event/dilea-webinar-berkala-bahasa-melayu/
END:VEVENT
BEGIN:VEVENT
DTSTART;TZID=Asia/Kuala_Lumpur:20251121T090000
DTEND;TZID=Asia/Kuala_Lumpur:20251123T180000
DTSTAMP:20260425T100309
CREATED:20251031T074826Z
LAST-MODIFIED:20251031T074826Z
UID:4855-1763715600-1763920800@parit11hutanmelintang.nadi.my
SUMMARY:E-SPORT: AWARENESS CLASS
DESCRIPTION:
URL:https://parit11hutanmelintang.nadi.my/event/e-sport-awareness-class-3/
END:VEVENT
BEGIN:VEVENT
DTSTART;TZID=Asia/Kuala_Lumpur:20251120T090000
DTEND;TZID=Asia/Kuala_Lumpur:20251120T180000
DTSTAMP:20260425T100309
CREATED:20251031T074751Z
LAST-MODIFIED:20251031T074751Z
UID:4853-1763629200-1763661600@parit11hutanmelintang.nadi.my
SUMMARY:CYBERSECURITY: WEBINAR
DESCRIPTION:
URL:https://parit11hutanmelintang.nadi.my/event/cybersecurity-webinar-2/
END:VEVENT
BEGIN:VEVENT
DTSTART;TZID=Asia/Kuala_Lumpur:20251120T090000
DTEND;TZID=Asia/Kuala_Lumpur:20251120T180000
DTSTAMP:20260425T100309
CREATED:20251031T074727Z
LAST-MODIFIED:20251031T074727Z
UID:4851-1763629200-1763661600@parit11hutanmelintang.nadi.my
SUMMARY:E-KLASS: WEBINAR MODUL 4
DESCRIPTION:
URL:https://parit11hutanmelintang.nadi.my/event/e-klass-webinar-modul-4/
END:VEVENT
BEGIN:VEVENT
DTSTART;TZID=Asia/Kuala_Lumpur:20251118T090000
DTEND;TZID=Asia/Kuala_Lumpur:20251118T180000
DTSTAMP:20260425T100309
CREATED:20251031T074655Z
LAST-MODIFIED:20251031T074655Z
UID:4849-1763456400-1763488800@parit11hutanmelintang.nadi.my
SUMMARY:E-KLASS: WEBINAR MODUL 3
DESCRIPTION:
URL:https://parit11hutanmelintang.nadi.my/event/e-klass-webinar-modul-3/
END:VEVENT
BEGIN:VEVENT
DTSTART;TZID=Asia/Kuala_Lumpur:20251115T090000
DTEND;TZID=Asia/Kuala_Lumpur:20251115T180000
DTSTAMP:20260425T100309
CREATED:20251031T074612Z
LAST-MODIFIED:20251031T075252Z
UID:4847-1763197200-1763229600@parit11hutanmelintang.nadi.my
SUMMARY:KIDVENTURE: WEBINAR PEMASARAN COHORT 7
DESCRIPTION:
URL:https://parit11hutanmelintang.nadi.my/event/kidventure-webinar-cohort-7/
END:VEVENT
BEGIN:VEVENT
DTSTART;TZID=Asia/Kuala_Lumpur:20251114T090000
DTEND;TZID=Asia/Kuala_Lumpur:20251116T180000
DTSTAMP:20260425T100309
CREATED:20251031T074543Z
LAST-MODIFIED:20251031T074543Z
UID:4845-1763110800-1763316000@parit11hutanmelintang.nadi.my
SUMMARY:E-SPORT: AWARENESS CLASS
DESCRIPTION:
URL:https://parit11hutanmelintang.nadi.my/event/e-sport-awareness-class-2/
END:VEVENT
BEGIN:VEVENT
DTSTART;TZID=Asia/Kuala_Lumpur:20251113T090000
DTEND;TZID=Asia/Kuala_Lumpur:20251113T180000
DTSTAMP:20260425T100309
CREATED:20251031T074509Z
LAST-MODIFIED:20251031T074509Z
UID:4843-1763024400-1763056800@parit11hutanmelintang.nadi.my
SUMMARY:USAHAWAN: WEBINAR PENGURUSAN KEWANGAN & PERANCANGAN PERNIAGAAN
DESCRIPTION:
URL:https://parit11hutanmelintang.nadi.my/event/usahawan-webinar-pengurusan-kewangan-perancangan-perniagaan/
END:VEVENT
BEGIN:VEVENT
DTSTART;TZID=Asia/Kuala_Lumpur:20251108T090000
DTEND;TZID=Asia/Kuala_Lumpur:20251108T180000
DTSTAMP:20260425T100309
CREATED:20251031T074305Z
LAST-MODIFIED:20251031T074305Z
UID:4841-1762592400-1762624800@parit11hutanmelintang.nadi.my
SUMMARY:TINYTECHIES: SUMO ROBOT WORKSHOP & IOT INNOVATION WORKSHOP SESI 4
DESCRIPTION:
URL:https://parit11hutanmelintang.nadi.my/event/tinytechies-sumo-robot-workshop-iot-innovation-workshop-sesi-4/
END:VEVENT
END:VCALENDAR